BEGIN:VCALENDAR
VERSION:2.0
PRODID:-//SWTC - ECPv6.15.20//NONSGML v1.0//EN
CALSCALE:GREGORIAN
METHOD:PUBLISH
X-WR-CALNAME:SWTC
X-ORIGINAL-URL:https://swtcnm.com
X-WR-CALDESC:Events for SWTC
REFRESH-INTERVAL;VALUE=DURATION:PT1H
X-Robots-Tag:noindex
X-PUBLISHED-TTL:PT1H
BEGIN:VTIMEZONE
TZID:UTC
BEGIN:STANDARD
TZOFFSETFROM:+0000
TZOFFSETTO:+0000
TZNAME:UTC
DTSTART:20200101T000000
END:STANDARD
END:VTIMEZONE
BEGIN:VEVENT
DTSTART;TZID=UTC:20210823T080000
DTEND;TZID=UTC:20210823T120000
DTSTAMP:20260423T075613
CREATED:20210715T003349Z
LAST-MODIFIED:20210715T014747Z
UID:10000177-1629705600-1629720000@swtcnm.com
SUMMARY:The Crash Report - Getting it Right
DESCRIPTION:The Crash Report is a very significant document and it is seen by many after it leaves your hands. We will go over the report and identify the importance of what you put into it. This is a four hour-long NMLEA accredited course that is also accredited as an instructor course. \nCOST – FREE \nLOCATION – Rio Rancho Police Department\, 500 Quantum Rd NE\, Albuquerque NM 87124 \nDATE – August 23\, 2021 \nSession 1 – 0800-1200 \nFLYER – Download Flyer
URL:https://swtcnm.com/event/the-crash-report-getting-it-right/
CATEGORIES:Crash - Getting it Right
ATTACH;FMTTYPE=image/jpeg:https://swtcnm.com/wp-content/uploads/2021/06/dsc00706.jpg
END:VEVENT
BEGIN:VEVENT
DTSTART;TZID=UTC:20210823T130000
DTEND;TZID=UTC:20210823T170000
DTSTAMP:20260423T075613
CREATED:20210715T005233Z
LAST-MODIFIED:20210715T014730Z
UID:10000178-1629723600-1629738000@swtcnm.com
SUMMARY:The Crash Report - Getting it Right
DESCRIPTION:The Crash Report is a very significant document and it is seen by many after it leaves your hands. We will go over the report and identify the importance of what you put into it. This is a four hour-long NMLEA accredited course that is also accredited as an instructor course. \nCOST – FREE \nLOCATION – Rio Rancho Police Department\, 500 Quantum Rd NE\, Albuquerque NM 87124 \nDATE – August 23\, 2021 \nSession 2 – 1300 – 1700 \nFlyer – Download Flyer
URL:https://swtcnm.com/event/the-crash-report-getting-it-right-2/
CATEGORIES:Crash - Getting it Right
ATTACH;FMTTYPE=image/jpeg:https://swtcnm.com/wp-content/uploads/2021/06/dsc00624-scaled.jpg
END:VEVENT
END:VCALENDAR