BEGIN:VCALENDAR
VERSION:2.0
PRODID:-//SWTC - ECPv6.15.20//NONSGML v1.0//EN
CALSCALE:GREGORIAN
METHOD:PUBLISH
X-WR-CALNAME:SWTC
X-ORIGINAL-URL:https://swtcnm.com
X-WR-CALDESC:Events for SWTC
REFRESH-INTERVAL;VALUE=DURATION:PT1H
X-Robots-Tag:noindex
X-PUBLISHED-TTL:PT1H
BEGIN:VTIMEZONE
TZID:UTC
BEGIN:STANDARD
TZOFFSETFROM:+0000
TZOFFSETTO:+0000
TZNAME:UTC
DTSTART:20220101T000000
END:STANDARD
END:VTIMEZONE
BEGIN:VEVENT
DTSTART;TZID=UTC:20230609T080000
DTEND;TZID=UTC:20230609T170000
DTSTAMP:20260422T174509
CREATED:20230418T231929Z
LAST-MODIFIED:20230424T142942Z
UID:10000139-1686297600-1686330000@swtcnm.com
SUMMARY:General Police Instructor Refresher (Edgewood)
DESCRIPTION:This course is designed to refresh the general instructor. We will discuss some of the basics and talk about some new ideas. this is a state-accredited course that is required every four years. \nDATE: June 9\, 2023 \nLOCATION: Edgewood Police Department\, 23 East Frontage Road\, Edgewood\, NM 87015 \nCOST: $100.00 \nCLICK FOR FLYER
URL:https://swtcnm.com/event/general-police-instructor-refresher/
CATEGORIES:Instructor Refresher Course
ATTACH;FMTTYPE=image/jpeg:https://swtcnm.com/wp-content/uploads/2021/09/images.jpeg
END:VEVENT
END:VCALENDAR