BEGIN:VCALENDAR
VERSION:2.0
PRODID:-//SWTC - ECPv6.15.20//NONSGML v1.0//EN
CALSCALE:GREGORIAN
METHOD:PUBLISH
X-WR-CALNAME:SWTC
X-ORIGINAL-URL:https://swtcnm.com
X-WR-CALDESC:Events for SWTC
REFRESH-INTERVAL;VALUE=DURATION:PT1H
X-Robots-Tag:noindex
X-PUBLISHED-TTL:PT1H
BEGIN:VTIMEZONE
TZID:UTC
BEGIN:STANDARD
TZOFFSETFROM:+0000
TZOFFSETTO:+0000
TZNAME:UTC
DTSTART:20220101T000000
END:STANDARD
END:VTIMEZONE
BEGIN:VEVENT
DTSTART;TZID=UTC:20230911T130000
DTEND;TZID=UTC:20230911T170000
DTSTAMP:20260421T103211
CREATED:20230911T225454Z
LAST-MODIFIED:20230911T230156Z
UID:10000146-1694437200-1694451600@swtcnm.com
SUMMARY:Crash Class (Albuquerque) Afternoon Session
DESCRIPTION:The Crash Report is a very significant document and it is seen by many after it leaves your hands. We will go over the report\, and identify the importance of the information. This is a four-hour-long NMLEA accredited course that is also accredited as an instructor course. \nDATE: September 26\, 2023 \nTIME: 1300 – 1700 \nLOCATION: 415 Tijeras Ave. SW Albuquerque\, NM 87102 \nCOST: FREE \nCLICK FOR FLYER
URL:https://swtcnm.com/event/crash-class-albuquerque-afternoon-session/
CATEGORIES:Crash - Getting it Right
ATTACH;FMTTYPE=image/jpeg:https://swtcnm.com/wp-content/uploads/2021/06/p1000746-scaled.jpg
END:VEVENT
END:VCALENDAR