BEGIN:VCALENDAR
VERSION:2.0
PRODID:-//SWTC - ECPv6.15.20//NONSGML v1.0//EN
CALSCALE:GREGORIAN
METHOD:PUBLISH
X-ORIGINAL-URL:https://swtcnm.com
X-WR-CALDESC:Events for SWTC
REFRESH-INTERVAL;VALUE=DURATION:PT1H
X-Robots-Tag:noindex
X-PUBLISHED-TTL:PT1H
BEGIN:VTIMEZONE
TZID:UTC
BEGIN:STANDARD
TZOFFSETFROM:+0000
TZOFFSETTO:+0000
TZNAME:UTC
DTSTART:20230101T000000
END:STANDARD
END:VTIMEZONE
BEGIN:VEVENT
DTSTART;TZID=UTC:20240812T080000
DTEND;TZID=UTC:20240812T120000
DTSTAMP:20260425T201324
CREATED:20240716T133011Z
LAST-MODIFIED:20240716T133845Z
UID:10000251-1723449600-1723464000@swtcnm.com
SUMMARY:The Crash Report (Morning Session) Roswell
DESCRIPTION:The Crash Report is a very significant document and it is seen by many after it leaves your hands. We will go over the report\, and identify the importance of the information. This is a four-hour-long NMLEA accredited course that is also accredited as an instructor course. \nDATE: August 12\, 2024 \nTIME: 0800 – 1200 \nLOCATION: #1 St. Mary’s Place\, Roswell\, NM 88203 \nCOST: FREE \nCLICK FOR FLYER
URL:https://swtcnm.com/event/the-crash-report-morning-session-roswell/
CATEGORIES:Crash - Getting it Right
ATTACH;FMTTYPE=image/jpeg:https://swtcnm.com/wp-content/uploads/2021/06/dsc00706.jpg
END:VEVENT
BEGIN:VEVENT
DTSTART;TZID=UTC:20240812T130000
DTEND;TZID=UTC:20240812T170000
DTSTAMP:20260425T201324
CREATED:20240716T133630Z
LAST-MODIFIED:20240716T133756Z
UID:10000252-1723467600-1723482000@swtcnm.com
SUMMARY:The Crash Report (Afternoon Session) Roswell
DESCRIPTION:The Crash Report is a very significant document and it is seen by many after it leaves your hands. We will go over the report\, and identify the importance of the information. This is a four-hour-long NMLEA accredited course that is also accredited as an instructor course. \nDATE: August 12\, 2024 \nTIME: 1300 – 1700 \nLOCATION: #1 St. Mary’s Place\, Roswell\, NM 88203 \nCOST: FREE \nCLICK FOR FLYER
URL:https://swtcnm.com/event/the-crash-report-afternoon-session-roswell/
CATEGORIES:Crash - Getting it Right
ATTACH;FMTTYPE=image/jpeg:https://swtcnm.com/wp-content/uploads/2021/06/dsc00624-scaled.jpg
END:VEVENT
END:VCALENDAR