BEGIN:VCALENDAR
VERSION:2.0
PRODID:-//SWTC - ECPv6.15.20//NONSGML v1.0//EN
CALSCALE:GREGORIAN
METHOD:PUBLISH
X-WR-CALNAME:SWTC
X-ORIGINAL-URL:https://swtcnm.com
X-WR-CALDESC:Events for SWTC
REFRESH-INTERVAL;VALUE=DURATION:PT1H
X-Robots-Tag:noindex
X-PUBLISHED-TTL:PT1H
BEGIN:VTIMEZONE
TZID:UTC
BEGIN:STANDARD
TZOFFSETFROM:+0000
TZOFFSETTO:+0000
TZNAME:UTC
DTSTART:20240101T000000
END:STANDARD
END:VTIMEZONE
BEGIN:VEVENT
DTSTART;TZID=UTC:20250516T080000
DTEND;TZID=UTC:20250516T120000
DTSTAMP:20260422T195016
CREATED:20250410T195402Z
LAST-MODIFIED:20250410T201512Z
UID:10000287-1747382400-1747396800@swtcnm.com
SUMMARY:Handling a Crisis- Albuquerque
DESCRIPTION:This block of instruction is the mandated curriculum that satisfies the NMLEA and State requirements for the biennium. It is a good class with a lot of information regarding handling a crisis\, dealing with those with mental impairment\, and de-escalation of those situations.  This is a four-hour class and is state-accredited. \nLocation: CNM Main Campus\, Smith Brasher Hall Rm 103  717 University SE\, Albuquerque\, NM 87106 \nDate & Times: May 16th\, 2025 8 am to 12 pm \nCost: $50.00 + Tax \nHandling a Crisis Flyer
URL:https://swtcnm.com/event/handling-a-crisis-albuquerque/
ATTACH;FMTTYPE=image/jpeg:https://swtcnm.com/wp-content/uploads/2021/06/Sex-assault.jpg
END:VEVENT
END:VCALENDAR