BEGIN:VCALENDAR
VERSION:2.0
PRODID:-//SWTC - ECPv6.15.20//NONSGML v1.0//EN
CALSCALE:GREGORIAN
METHOD:PUBLISH
X-WR-CALNAME:SWTC
X-ORIGINAL-URL:https://swtcnm.com
X-WR-CALDESC:Events for SWTC
REFRESH-INTERVAL;VALUE=DURATION:PT1H
X-Robots-Tag:noindex
X-PUBLISHED-TTL:PT1H
BEGIN:VTIMEZONE
TZID:UTC
BEGIN:STANDARD
TZOFFSETFROM:+0000
TZOFFSETTO:+0000
TZNAME:UTC
DTSTART:20240101T000000
END:STANDARD
END:VTIMEZONE
BEGIN:VEVENT
DTSTART;TZID=UTC:20250908T080000
DTEND;TZID=UTC:20250908T120000
DTSTAMP:20260423T061349
CREATED:20250724T174841Z
LAST-MODIFIED:20250724T175303Z
UID:10000300-1757318400-1757332800@swtcnm.com
SUMMARY:Crash Class Getting It Right- Las Cruces (Morning Session)
DESCRIPTION:Description: This is a four-hour NMLEA-accredited course that is also accredited as an instructor course. The Crash Report is a very significant document\, and many see it after it leaves your hands. We will go over the report\, kind of like a refresher\, and identify the importance of what you put into it. \nLocation: New Mexico State Police Office Las Cruces 4055 S Sonoma Ranch Blvd\, Las Cruces\, NM 88011 \nDate: Monday\, September 8th\, 2025 \nTime: 8am to 12pm \nCourse Cost: FREE
URL:https://swtcnm.com/event/crash-class-getting-it-right-las-cruces-morning-session/
CATEGORIES:Crash - Getting it Right
ATTACH;FMTTYPE=image/png:https://swtcnm.com/wp-content/uploads/2025/07/Exclusive-3.png
END:VEVENT
BEGIN:VEVENT
DTSTART;TZID=UTC:20250908T080000
DTEND;TZID=UTC:20250912T170000
DTSTAMP:20260423T061349
CREATED:20250618T182658Z
LAST-MODIFIED:20250618T182658Z
UID:10000297-1757318400-1757696400@swtcnm.com
SUMMARY:Instructor Development - Grants
DESCRIPTION:Description: This week-long class will give you the foundation to become a professional and dynamic instructor. You will learn how to develop your own curriculum\, how to get it accredited\, the principles of learning and teaching\,  and the qualities of a good instructor. \nLocation: Coyote Del Malpais Golf Course Conference Room  2001 George Hanosh Blvd. Grants\, NM 87020 \nDates & Times: September 8th – 12th\, 2025 \n8:00 am to 5:00 pm \n 
URL:https://swtcnm.com/event/instructor-development-grants/
ATTACH;FMTTYPE=image/png:https://swtcnm.com/wp-content/uploads/2025/06/Instructor-Development-Flyer.png
END:VEVENT
BEGIN:VEVENT
DTSTART;TZID=UTC:20250908T130000
DTEND;TZID=UTC:20250908T170000
DTSTAMP:20260423T061349
CREATED:20250724T175535Z
LAST-MODIFIED:20250724T175535Z
UID:10000302-1757336400-1757350800@swtcnm.com
SUMMARY:Crash Class Getting It Right- Las Cruces (Afternoon Session)
DESCRIPTION:Description: This is a four-hour NMLEA-accredited course that is also accredited as an instructor course. The Crash Report is a very significant document\, and many see it after it leaves your hands. We will go over the report\, kind of like a refresher\, and identify the importance of what you put into it. \nLocation: New Mexico State Police Office Las Cruces 4055 S Sonoma Ranch Blvd\, Las Cruces\, NM 88011 \nDate: Monday\, September 8th\, 2025 \nTime: 1pm to 5pm \nCourse Cost: FREE
URL:https://swtcnm.com/event/crash-class-getting-it-right-las-cruces-afternoon-session-2/
CATEGORIES:Crash - Getting it Right
ATTACH;FMTTYPE=image/png:https://swtcnm.com/wp-content/uploads/2025/07/Exclusive-3.png
END:VEVENT
END:VCALENDAR