BEGIN:VCALENDAR
VERSION:2.0
PRODID:-//SWTC - ECPv6.15.20//NONSGML v1.0//EN
CALSCALE:GREGORIAN
METHOD:PUBLISH
X-WR-CALNAME:SWTC
X-ORIGINAL-URL:https://swtcnm.com
X-WR-CALDESC:Events for SWTC
REFRESH-INTERVAL;VALUE=DURATION:PT1H
X-Robots-Tag:noindex
X-PUBLISHED-TTL:PT1H
BEGIN:VTIMEZONE
TZID:UTC
BEGIN:STANDARD
TZOFFSETFROM:+0000
TZOFFSETTO:+0000
TZNAME:UTC
DTSTART:20240101T000000
END:STANDARD
END:VTIMEZONE
BEGIN:VEVENT
DTSTART;TZID=UTC:20250528T080000
DTEND;TZID=UTC:20250528T120000
DTSTAMP:20260422T082924
CREATED:20250407T200954Z
LAST-MODIFIED:20250410T171439Z
UID:10000285-1748419200-1748433600@swtcnm.com
SUMMARY:Crash- Getting It Right Morning Session- Albuquerque
DESCRIPTION:This is a four-hour NMLEA-accredited course that is also accredited as an instructor course. The Crash Report is a very significant document\, and many see it after it leaves your hands. We will go over the report\, kind of like a refresher\, and identify the importance of what you put into it. \nLocation: Albuquerque\, NM  6400 Uptown Blvd NE\, Albuquerque\, NM 87110 \nDate & Times: May 28th\, 2025 8am to 12pm \nCrash Flyer Albuquerque \nFREE COURSE
URL:https://swtcnm.com/event/crash-getting-it-right-morning-session-albuquerque/
CATEGORIES:Crash - Getting it Right
ATTACH;FMTTYPE=image/jpeg:https://swtcnm.com/wp-content/uploads/2021/06/dsc00624-scaled.jpg
END:VEVENT
BEGIN:VEVENT
DTSTART;TZID=UTC:20250528T130000
DTEND;TZID=UTC:20250528T170000
DTSTAMP:20260422T082924
CREATED:20250407T201110Z
LAST-MODIFIED:20250407T201110Z
UID:10000286-1748437200-1748451600@swtcnm.com
SUMMARY:Crash- Getting It Right Afternoon Session- Albuquerque
DESCRIPTION:This is a four-hour NMLEA-accredited course that is also accredited as an instructor course. The Crash Report is a very significant document\, and many see it after it leaves your hands. We will go over the report\, kind of like a refresher\, and identify the importance of what you put into it. \nLocation: Albuquerque\, NM  6400 Uptown Blvd NE\, Albuquerque\, NM 87110 \nDate & Times: May 28th\, 2025 1pm to 5pm \nCrash Flyer Albuquerque \nFREE COURSE
URL:https://swtcnm.com/event/crash-getting-it-right-afternoon-session-albuquerque/
CATEGORIES:Crash - Getting it Right
ATTACH;FMTTYPE=image/jpeg:https://swtcnm.com/wp-content/uploads/2021/06/dsc00624-scaled.jpg
END:VEVENT
END:VCALENDAR