BEGIN:VCALENDAR
VERSION:2.0
PRODID:-//SWTC - ECPv6.15.20//NONSGML v1.0//EN
CALSCALE:GREGORIAN
METHOD:PUBLISH
X-WR-CALNAME:SWTC
X-ORIGINAL-URL:https://swtcnm.com
X-WR-CALDESC:Events for SWTC
REFRESH-INTERVAL;VALUE=DURATION:PT1H
X-Robots-Tag:noindex
X-PUBLISHED-TTL:PT1H
BEGIN:VTIMEZONE
TZID:UTC
BEGIN:STANDARD
TZOFFSETFROM:+0000
TZOFFSETTO:+0000
TZNAME:UTC
DTSTART:20250101T000000
END:STANDARD
END:VTIMEZONE
BEGIN:VEVENT
DTSTART;TZID=UTC:20260306T130000
DTEND;TZID=UTC:20260306T220000
DTSTAMP:20260421T181920
CREATED:20251230T191146Z
LAST-MODIFIED:20251230T191412Z
UID:10000317-1772802000-1772834400@swtcnm.com
SUMMARY:DWI Checkpoint Class - Albuquerque
DESCRIPTION:Description: The DWI Checkpoint class is an eight-hour block of instruction that goes over all the parameters related to conducting a checkpoint. We will review case law in detail\, as this is one of the most critical components of conducting a checkpoint.  We will also review the setup and all the necessary steps to complete one successfully.  This course will provide the information you need to successfully set up a checkpoint for your agency.  Additionally\, part of the instruction is the attendance of a checkpoint where we will observe the operation. \nLocation:  African American Pavilion at New Mexico State Fairgrounds\, Albuquerque\, NM 300 San Pedro Dr NE\, Albuquerque\, NM 87108 \nDate & Times: Friday\, March 6th\, 2026 1pm to 9pm \nCost: FREE
URL:https://swtcnm.com/event/dwi-checkpoint-class-albuquerque-2/
CATEGORIES:DWI Checkpoint
ATTACH;FMTTYPE=image/png:https://swtcnm.com/wp-content/uploads/2025/12/Black-and-Blue-Professional-Business-Workshop-Flyer-1.png
END:VEVENT
END:VCALENDAR