BEGIN:VCALENDAR
VERSION:2.0
PRODID:-//SWTC - ECPv6.15.20//NONSGML v1.0//EN
CALSCALE:GREGORIAN
METHOD:PUBLISH
X-ORIGINAL-URL:https://swtcnm.com
X-WR-CALDESC:Events for SWTC
REFRESH-INTERVAL;VALUE=DURATION:PT1H
X-Robots-Tag:noindex
X-PUBLISHED-TTL:PT1H
BEGIN:VTIMEZONE
TZID:UTC
BEGIN:STANDARD
TZOFFSETFROM:+0000
TZOFFSETTO:+0000
TZNAME:UTC
DTSTART:20240101T000000
END:STANDARD
END:VTIMEZONE
BEGIN:VEVENT
DTSTART;VALUE=DATE:20250107
DTEND;VALUE=DATE:20250108
DTSTAMP:20260424T143658
CREATED:20241130T034003Z
LAST-MODIFIED:20250102T214918Z
UID:10000259-1736208000-1736294399@swtcnm.com
SUMMARY:General Police Instructor Refresher
DESCRIPTION:POSTPONED – January 2\, 2025. Sorry for any inconvenience \nGeneral Police Instructor Refresher – This course is designed to refresh the general police instructor in the basics of teaching.  This is a great course\, and those in attendance will get a lot out of it. \n  \nDate: Tuesday\, January 7th\, 2025\, 8:00 AM to 5:00 PM \nLocation: Sandia Pueblo Police Department \n10600 Apache Plume Dr\, Albuquerque\, NM 87113 \nCourse Cost:  $125.00 \nCLICK FOR FLYER
URL:https://swtcnm.com/event/general-police-instructor-refresher-2/
CATEGORIES:Instructor Refresher Course
ATTACH;FMTTYPE=image/jpeg:https://swtcnm.com/wp-content/uploads/2021/09/images.jpeg
END:VEVENT
END:VCALENDAR