BEGIN:VCALENDAR
VERSION:2.0
PRODID:-//SWTC - ECPv6.15.20//NONSGML v1.0//EN
CALSCALE:GREGORIAN
METHOD:PUBLISH
X-WR-CALNAME:SWTC
X-ORIGINAL-URL:https://swtcnm.com
X-WR-CALDESC:Events for SWTC
REFRESH-INTERVAL;VALUE=DURATION:PT1H
X-Robots-Tag:noindex
X-PUBLISHED-TTL:PT1H
BEGIN:VTIMEZONE
TZID:UTC
BEGIN:STANDARD
TZOFFSETFROM:+0000
TZOFFSETTO:+0000
TZNAME:UTC
DTSTART:20240101T000000
END:STANDARD
END:VTIMEZONE
BEGIN:VEVENT
DTSTART;TZID=UTC:20250818T080000
DTEND;TZID=UTC:20250820T170000
DTSTAMP:20260424T123935
CREATED:20250509T193739Z
LAST-MODIFIED:20250509T193739Z
UID:10000290-1755504000-1755709200@swtcnm.com
SUMMARY:Managing Police Traffic Services - Santa Fe
DESCRIPTION:From the Senior Officer to the Lieutenant\, this class will give you a guide on the basics related to patrol operations and police traffic services. During this class\, we will dive\ninto the concerns that New Mexico citizens in each community face related to traffic safety.  This is a free training. \nDates: August 18th through August 20th 2025 \nLocation:  Santa Fe County Sheriff’s Office    35 Camino Justicia\, Santa Fe\, NM 87508 \nCost: FREE \nMPTS Flyer – Santa Fe
URL:https://swtcnm.com/event/managing-police-traffic-services-santa-fe-2/
CATEGORIES:Managing Police Traffic Services
ATTACH;FMTTYPE=image/jpeg:https://swtcnm.com/wp-content/uploads/2021/07/images-1.jpeg
END:VEVENT
END:VCALENDAR