BEGIN:VCALENDAR
VERSION:2.0
PRODID:-//SWTC - ECPv6.15.20//NONSGML v1.0//EN
CALSCALE:GREGORIAN
METHOD:PUBLISH
X-ORIGINAL-URL:https://swtcnm.com
X-WR-CALDESC:Events for SWTC
REFRESH-INTERVAL;VALUE=DURATION:PT1H
X-Robots-Tag:noindex
X-PUBLISHED-TTL:PT1H
BEGIN:VTIMEZONE
TZID:UTC
BEGIN:STANDARD
TZOFFSETFROM:+0000
TZOFFSETTO:+0000
TZNAME:UTC
DTSTART:20220101T000000
END:STANDARD
END:VTIMEZONE
BEGIN:VEVENT
DTSTART;TZID=UTC:20230905T080000
DTEND;TZID=UTC:20230905T170000
DTSTAMP:20260422T215835
CREATED:20230802T194603Z
LAST-MODIFIED:20230802T194834Z
UID:10000225-1693900800-1693933200@swtcnm.com
SUMMARY:General Instructor Refresher (Gallup)
DESCRIPTION:This course is designed to refresh the general instructor. We will discuss some of the basics and talk about some new ideas. this is a state-accredited course that is required every four years. \nDATE: September 5\, 2023 \nLOCATION: PENDING \nCOST: $100.00 \nCLICK FOR FLYER
URL:https://swtcnm.com/event/general-instructor-refresher-gallup/
CATEGORIES:Instructor Refresher Course
ATTACH;FMTTYPE=image/jpeg:https://swtcnm.com/wp-content/uploads/2021/09/images.jpeg
END:VEVENT
BEGIN:VEVENT
DTSTART;TZID=UTC:20230911T130000
DTEND;TZID=UTC:20230911T170000
DTSTAMP:20260422T215835
CREATED:20230911T225454Z
LAST-MODIFIED:20230911T230156Z
UID:10000146-1694437200-1694451600@swtcnm.com
SUMMARY:Crash Class (Albuquerque) Afternoon Session
DESCRIPTION:The Crash Report is a very significant document and it is seen by many after it leaves your hands. We will go over the report\, and identify the importance of the information. This is a four-hour-long NMLEA accredited course that is also accredited as an instructor course. \nDATE: September 26\, 2023 \nTIME: 1300 – 1700 \nLOCATION: 415 Tijeras Ave. SW Albuquerque\, NM 87102 \nCOST: FREE \nCLICK FOR FLYER
URL:https://swtcnm.com/event/crash-class-albuquerque-afternoon-session/
CATEGORIES:Crash - Getting it Right
ATTACH;FMTTYPE=image/jpeg:https://swtcnm.com/wp-content/uploads/2021/06/p1000746-scaled.jpg
END:VEVENT
BEGIN:VEVENT
DTSTART;TZID=UTC:20230919T080000
DTEND;TZID=UTC:20230919T120000
DTSTAMP:20260422T215835
CREATED:20230821T224728Z
LAST-MODIFIED:20230821T231600Z
UID:10000230-1695110400-1695124800@swtcnm.com
SUMMARY:The Crash Report (Las Cruces) Morning Session
DESCRIPTION:The Crash Report is a very significant document and it is seen by many after it leaves your hands. We will go over the report\, and identify the importance of the information. This is a four-hour-long NMLEA accredited course that is also accredited as an instructor course. \nDATE: September 19\, 2023 \nTIME: 0800 – 1200 \nLOCATION: New Mexico State Police Office\, 4055 S. Sonoma Ranch Blvd. Las Cruces\, NM 88011 \nCOST: FREE \nCLICK FOR FLYER
URL:https://swtcnm.com/event/the-crash-report-las-cruces-morning-session/
CATEGORIES:Crash - Getting it Right
ATTACH;FMTTYPE=image/jpeg:https://swtcnm.com/wp-content/uploads/2021/06/dsc00706.jpg
END:VEVENT
BEGIN:VEVENT
DTSTART;TZID=UTC:20230919T080000
DTEND;TZID=UTC:20230920T170000
DTSTAMP:20260422T215835
CREATED:20230821T220821Z
LAST-MODIFIED:20230821T223740Z
UID:10000228-1695110400-1695229200@swtcnm.com
SUMMARY:Filed Training Officer - FTO (Deming)
DESCRIPTION:Becoming a certified FTO is not just about knowing the ins and outs of the job or the department\, but more importantly being a positive role model\, mentor\, and leader. This class will give you tips and techniques to better approach these new officers and a better fit for your department. \nDATE: September 19 – 20\, 2023 \nLOCATION: 119 E. Pine Deming\, NM 88030 \nCOST: $200.00 \nCLICK FOR FLYER
URL:https://swtcnm.com/event/filed-training-officer-fto-deming/
CATEGORIES:Field Training Officer (FTO)
ATTACH;FMTTYPE=image/png:https://swtcnm.com/wp-content/uploads/2021/06/images.png
END:VEVENT
BEGIN:VEVENT
DTSTART;TZID=UTC:20230919T130000
DTEND;TZID=UTC:20230919T170000
DTSTAMP:20260422T215835
CREATED:20230821T225128Z
LAST-MODIFIED:20230821T231537Z
UID:10000231-1695128400-1695142800@swtcnm.com
SUMMARY:The Crash Report (Las Cruces) Afternoon Session
DESCRIPTION:The Crash Report is a very significant document and it is seen by many after it leaves your hands. We will go over the report\, and identify the importance of the information. This is a four-hour-long NMLEA accredited course that is also accredited as an instructor course. \nDATE: September 19\, 2023 \nTIME: 1300-1500 \nLOCATION: New Mexico State Police Office\, 4055 S Sonoma Ranch Blvd. Las Cruces\, NM 88011 \nCOST: FREE \nCLICK FOR FLYER
URL:https://swtcnm.com/event/the-crash-report-las-cruces-afternoon-session/
CATEGORIES:Crash - Getting it Right
ATTACH;FMTTYPE=image/jpeg:https://swtcnm.com/wp-content/uploads/2021/06/dsc00624-scaled.jpg
END:VEVENT
BEGIN:VEVENT
DTSTART;TZID=UTC:20230921T080000
DTEND;TZID=UTC:20230921T120000
DTSTAMP:20260422T215835
CREATED:20230821T225540Z
LAST-MODIFIED:20230821T232114Z
UID:10000142-1695283200-1695297600@swtcnm.com
SUMMARY:The Crash Report (NMLEA) Morning Session
DESCRIPTION:The Crash Report is a very significant document and it is seen by many after it leaves your hands. We will go over the report\, and identify the importance of the information. This is a four-hour-long NMLEA accredited course that is also accredited as an instructor course. \nDATE: September 21\, 2023 \nTIME: 0800 – 1200 \nLOCATION: NMLEA 4491 Cerrillos Rd Santa Fe\, NM 87507 \nCOST: FREE \nCLICK FOR FLYER
URL:https://swtcnm.com/event/the-crash-report-nmlea-morning-session/
CATEGORIES:Crash - Getting it Right
ATTACH;FMTTYPE=image/jpeg:https://swtcnm.com/wp-content/uploads/2021/06/dsc00706.jpg
END:VEVENT
BEGIN:VEVENT
DTSTART;TZID=UTC:20230921T130000
DTEND;TZID=UTC:20230921T170000
DTSTAMP:20260422T215835
CREATED:20230821T225952Z
LAST-MODIFIED:20230821T231956Z
UID:10000143-1695301200-1695315600@swtcnm.com
SUMMARY:The Crash Report (NMLEA) Afternoon Session
DESCRIPTION:The Crash Report is a very significant document and it is seen by many after it leaves your hands. We will go over the report\, and identify the importance of the information. This is a four-hour-long NMLEA accredited course that is also accredited as an instructor course. \nDATE: September 21\, 2023 \nTIME: 1300 – 1700 \nLOCATION: NMLEA 4491 Cerrillos Rd Santa Fe\, NM 87507 \nCOST: FREE \nCLICK FOR FLYER
URL:https://swtcnm.com/event/the-crash-report-nmlea-afternoon-session/
CATEGORIES:Crash - Getting it Right
ATTACH;FMTTYPE=image/jpeg:https://swtcnm.com/wp-content/uploads/2021/06/dsc00624-scaled.jpg
END:VEVENT
BEGIN:VEVENT
DTSTART;TZID=UTC:20230925T080000
DTEND;TZID=UTC:20230928T170000
DTSTAMP:20260422T215835
CREATED:20230821T193723Z
LAST-MODIFIED:20230821T223557Z
UID:10000227-1695628800-1695920400@swtcnm.com
SUMMARY:Managing Police traffic Services (NMLEA)
DESCRIPTION:During this class\, we will dive into the concerns that face New Mexico Citizens in each community related to traffic safety. We will look at where we can get the data to better support our community and go over the projects often taken on\, and how to manage a grant. \nDATE: September 25 – 28\, 2023 \nLOCATION: NMLEA 4491 Cerillos Rd Santa Fe\, NM 87507 (Auditorium) \nCOST: FREE \nCLICK FOR FLYER
URL:https://swtcnm.com/event/managing-police-traffic-services-nmlea/
CATEGORIES:Managing Police Traffic Services
ATTACH;FMTTYPE=image/jpeg:https://swtcnm.com/wp-content/uploads/2021/07/images-1.jpeg
END:VEVENT
BEGIN:VEVENT
DTSTART;TZID=UTC:20230926T080000
DTEND;TZID=UTC:20230926T120000
DTSTAMP:20260422T215835
CREATED:20230911T224925Z
LAST-MODIFIED:20230911T230127Z
UID:10000145-1695715200-1695729600@swtcnm.com
SUMMARY:Crash Class (Albuquerque) Morning Session
DESCRIPTION:The Crash Report is a very significant document and it is seen by many after it leaves your hands. We will go over the report\, and identify the importance of the information. This is a four-hour-long NMLEA accredited course that is also accredited as an instructor course. \nDATE: September 26\, 2023 \nTIME: 0800 – 1200 \nLOCATION: 415 Tijeras Ave. SW Albuquerque\, NM 87102 \nCOST: FREE \nCLICK FOR FLYER
URL:https://swtcnm.com/event/crash-class-albuquerque-morning-session/
CATEGORIES:Crash - Getting it Right
ATTACH;FMTTYPE=image/jpeg:https://swtcnm.com/wp-content/uploads/2021/06/crash-report-2.jpg
END:VEVENT
BEGIN:VEVENT
DTSTART;TZID=UTC:20230926T120000
DTEND;TZID=UTC:20230926T170000
DTSTAMP:20260422T215835
CREATED:20230921T145025Z
LAST-MODIFIED:20230921T145039Z
UID:10000147-1695729600-1695747600@swtcnm.com
SUMMARY:Crash Report (Albuquerque) Afternoon Session
DESCRIPTION:The Crash Report is a very significant document and it is seen by many after it leaves your hands. We will go over the report\, and identify the importance of the information. This is a four-hour-long NMLEA accredited course that is also accredited as an instructor course. \nDATE: September 26\, 2023 \nTIME: 1200 – 1700 \nLOCATION: 415 Tijeras Ave. SW Albuquerque\, NM 87102 \nCOST: FREE \nCLICK FOR FLYER
URL:https://swtcnm.com/event/crash-report-albuquerque-afternoon-session/
CATEGORIES:Crash - Getting it Right
ATTACH;FMTTYPE=image/jpeg:https://swtcnm.com/wp-content/uploads/2021/06/dsc00706.jpg
END:VEVENT
END:VCALENDAR