BEGIN:VCALENDAR
VERSION:2.0
PRODID:-//SWTC - ECPv6.15.20//NONSGML v1.0//EN
CALSCALE:GREGORIAN
METHOD:PUBLISH
X-ORIGINAL-URL:https://swtcnm.com
X-WR-CALDESC:Events for SWTC
REFRESH-INTERVAL;VALUE=DURATION:PT1H
X-Robots-Tag:noindex
X-PUBLISHED-TTL:PT1H
BEGIN:VTIMEZONE
TZID:UTC
BEGIN:STANDARD
TZOFFSETFROM:+0000
TZOFFSETTO:+0000
TZNAME:UTC
DTSTART:20220101T000000
END:STANDARD
END:VTIMEZONE
BEGIN:VEVENT
DTSTART;TZID=UTC:20231016T080000
DTEND;TZID=UTC:20231020T170000
DTSTAMP:20260422T215845
CREATED:20230821T221214Z
LAST-MODIFIED:20230927T172855Z
UID:10000229-1697443200-1697821200@swtcnm.com
SUMMARY:Instructor Development (Belen)
DESCRIPTION:This weeklong class will give you the foundation to become a professional and dynamic instructor. You will learn how to develop your own curriculum\, how to get it accredited\, the principles of learning and teaching\, and the qualities of a good instructor. \nDATE: October 16 – 20\, 2023 \nLOCATION: 333 Becker Ave Belen\, NM 87002 \nCOST: $400.00 \nCLICK FOR FLYER
URL:https://swtcnm.com/event/240263/
CATEGORIES:Instructor Development
ATTACH;FMTTYPE=image/jpeg:https://swtcnm.com/wp-content/uploads/2021/09/images.jpeg
END:VEVENT
BEGIN:VEVENT
DTSTART;TZID=UTC:20231018T090000
DTEND;TZID=UTC:20231018T110000
DTSTAMP:20260422T215845
CREATED:20230927T171715Z
LAST-MODIFIED:20230927T171715Z
UID:10000148-1697619600-1697626800@swtcnm.com
SUMMARY:Dealing w/ The Mentally Ill (Refresher) On-Line October
DESCRIPTION:This sensitive and complex issue of law enforcement dealing with people with mental impairment has become a major concern on a national level. This class will address many issues surrounding this controversial and difficaul encounter. \nDATE: October 18\, 2023 \nTIME: 0900-1100 \nLOCATION: On-Line \nCOST: $50.00 \n 
URL:https://swtcnm.com/event/dealing-w-the-mentally-ill-refresher-on-line-october/
ATTACH;FMTTYPE=image/jpeg:https://swtcnm.com/wp-content/uploads/2021/06/Sex-assault.jpg
END:VEVENT
END:VCALENDAR