BEGIN:VCALENDAR
VERSION:2.0
PRODID:-//SWTC - ECPv6.15.20//NONSGML v1.0//EN
CALSCALE:GREGORIAN
METHOD:PUBLISH
X-WR-CALNAME:SWTC
X-ORIGINAL-URL:https://swtcnm.com
X-WR-CALDESC:Events for SWTC
REFRESH-INTERVAL;VALUE=DURATION:PT1H
X-Robots-Tag:noindex
X-PUBLISHED-TTL:PT1H
BEGIN:VTIMEZONE
TZID:UTC
BEGIN:STANDARD
TZOFFSETFROM:+0000
TZOFFSETTO:+0000
TZNAME:UTC
DTSTART:20230101T000000
END:STANDARD
END:VTIMEZONE
BEGIN:VEVENT
DTSTART;TZID=UTC:20240708T080000
DTEND;TZID=UTC:20240711T170000
DTSTAMP:20260423T032235
CREATED:20240311T194527Z
LAST-MODIFIED:20240315T152959Z
UID:10000159-1720425600-1720717200@swtcnm.com
SUMMARY:Managing Police Traffic Services (Las Cruces)
DESCRIPTION:During this class\, we will dive into the concerns that face New Mexico Citizens in each community related to traffic safety. We will look at where we can get the data to better support our community and go over the projects often taken on\, and how to manage a grant. \nDATE: July 8th – 11th\, 2024 \nLOCATION: New Mexico State Police Office\, 4055 S. Sonoma Ranch Blvd\, Las Cruces\, NM 88011 \nCOST: FREE \nCLICK FOR FLYER
URL:https://swtcnm.com/event/managing-police-traffic-services-las-cruces-2/
CATEGORIES:Managing Police Traffic Services
ATTACH;FMTTYPE=image/jpeg:https://swtcnm.com/wp-content/uploads/2021/07/images-1.jpeg
END:VEVENT
BEGIN:VEVENT
DTSTART;TZID=UTC:20240722T080000
DTEND;TZID=UTC:20240726T170000
DTSTAMP:20260423T032235
CREATED:20240325T222803Z
LAST-MODIFIED:20240325T222803Z
UID:10000160-1721635200-1722013200@swtcnm.com
SUMMARY:SFST Instructor Course
DESCRIPTION:This weeklong course focuses on the importance of the SFST program and how to instruct others from your department regarding SFST \nDATE: July 22-26\, 2024 \nLOCATION: Las Cruces Police Dpt. – East Mesa Public Safety Complex\, 550 N. Sonoma Ranch Blvd\, Las Cruces\, NM 88011 \nCOST: FREE \n 
URL:https://swtcnm.com/event/sfst-instructor-course-2/
CATEGORIES:SFST Instructor
ATTACH;FMTTYPE=image/jpeg:https://swtcnm.com/wp-content/uploads/2021/06/sfst.jpg
END:VEVENT
BEGIN:VEVENT
DTSTART;TZID=UTC:20240729T080000
DTEND;TZID=UTC:20240802T170000
DTSTAMP:20260423T032235
CREATED:20240501T145246Z
LAST-MODIFIED:20240501T145246Z
UID:10000245-1722240000-1722618000@swtcnm.com
SUMMARY:1st Line Supervisor Class (Rio Rancho)
DESCRIPTION:This course will provide you with the basic know how in becoming an effective Supervisor\, Leader and Manager. All employees are different\, this course will provide you with various techniques in order to approach your employees in an effective way in order for them to have confidence in themselves and most importantly work positively for you. This course is designed to help the newly promoted supervisor and develop them into a more effective leader. \nCourse Location: Rio Rancho PD\, 500 Quantum Rd NE\, Rio Rancho\, NM 87124 \nDate: July 29 – August 2\, 2024 \nCost: $425.00 \nCLICK FOR FLYER
URL:https://swtcnm.com/event/1st-line-supervisor-class-rio-rancho-2/
CATEGORIES:First Line Supervisor
ATTACH;FMTTYPE=image/png:https://swtcnm.com/wp-content/uploads/2021/06/images.png
END:VEVENT
BEGIN:VEVENT
DTSTART;TZID=UTC:20240730T080000
DTEND;TZID=UTC:20240730T120000
DTSTAMP:20260423T032235
CREATED:20240702T185539Z
LAST-MODIFIED:20240702T190311Z
UID:10000248-1722326400-1722340800@swtcnm.com
SUMMARY:The Crash Class Morning Session (Taos)
DESCRIPTION:The Crash Report is a very significant document and it is seen by many after it leaves your hands. We will go over the report\, and identify the importance of the information. This is a four-hour-long NMLEA accredited course that is also accredited as an instructor course. \nDATE: July 30\, 2024 \nTIME: 0800 – 1200 \nLOCATION: 120 Civic Plaza Drive\, Taos\, NM 87571 (El Taoseno Room) \nCOST: FREE \nCLICK FOR FLYER
URL:https://swtcnm.com/event/the-crash-class-morning-session-taos/
CATEGORIES:Crash - Getting it Right
ATTACH;FMTTYPE=image/jpeg:https://swtcnm.com/wp-content/uploads/2021/06/dsc00706.jpg
END:VEVENT
BEGIN:VEVENT
DTSTART;TZID=UTC:20240730T130000
DTEND;TZID=UTC:20240730T170000
DTSTAMP:20260423T032235
CREATED:20240702T185959Z
LAST-MODIFIED:20240702T190206Z
UID:10000249-1722344400-1722358800@swtcnm.com
SUMMARY:The Crash Class Afternoon Session (Taos)
DESCRIPTION:The Crash Report is a very significant document and it is seen by many after it leaves your hands. We will go over the report\, and identify the importance of the information. This is a four-hour-long NMLEA accredited course that is also accredited as an instructor course. \nDATE: July 30\, 2024 \nTIME: 1300 – 1700 \nLOCATION: 120 Civic Plaza Drive\, Taos\, NM 87571 (El Taoseno Room) \nCOST: FREE \nCLICK FOR FLYER
URL:https://swtcnm.com/event/the-crash-class-afternoon-session-taos/
CATEGORIES:Crash - Getting it Right
ATTACH;FMTTYPE=image/jpeg:https://swtcnm.com/wp-content/uploads/2021/06/dsc00624-scaled.jpg
END:VEVENT
END:VCALENDAR