BEGIN:VCALENDAR
VERSION:2.0
PRODID:-//SWTC - ECPv6.15.20//NONSGML v1.0//EN
CALSCALE:GREGORIAN
METHOD:PUBLISH
X-WR-CALNAME:SWTC
X-ORIGINAL-URL:https://swtcnm.com
X-WR-CALDESC:Events for SWTC
REFRESH-INTERVAL;VALUE=DURATION:PT1H
X-Robots-Tag:noindex
X-PUBLISHED-TTL:PT1H
BEGIN:VTIMEZONE
TZID:UTC
BEGIN:STANDARD
TZOFFSETFROM:+0000
TZOFFSETTO:+0000
TZNAME:UTC
DTSTART:20240101T000000
END:STANDARD
END:VTIMEZONE
BEGIN:VEVENT
DTSTART;TZID=UTC:20250317T080000
DTEND;TZID=UTC:20250321T170000
DTSTAMP:20260421T225552
CREATED:20250204T213110Z
LAST-MODIFIED:20250205T000136Z
UID:10000272-1742198400-1742576400@swtcnm.com
SUMMARY:First Line Supervisor - Pojoaque
DESCRIPTION:This course is designed to assist the newly promoted supervisor or the one looking to take that role with some of the basics when it comes to supervision. \n  \nLocation: Buffalo Thunder Resort\,   20 Buffalo Thunder Trl\, Santa Fe\, NM 87506 \nBuffalo Thunder Resort is offering a special rate for attendees.  Upon registering for the course an email will be sent to you within 24 hours with that link. \nDate and Time: March 17th through March 21st\, 2025 8am to 5pm \n  \n1st Line flyer
URL:https://swtcnm.com/event/first-line-supervisor-pojoaque/
CATEGORIES:First Line Supervisor
ATTACH;FMTTYPE=image/png:https://swtcnm.com/wp-content/uploads/2021/05/First-Line-Supervisor.png
END:VEVENT
BEGIN:VEVENT
DTSTART;TZID=UTC:20250318T080000
DTEND;TZID=UTC:20250318T120000
DTSTAMP:20260421T225552
CREATED:20250218T195002Z
LAST-MODIFIED:20250313T203102Z
UID:10000273-1742284800-1742299200@swtcnm.com
SUMMARY:Crash- Getting It Right (Morning Session)
DESCRIPTION:This is a four-hour NMLEA-accredited course that is also accredited as an instructor course. The Crash Report is a very significant document\, and many see it after it leaves your hands. We will go over the report and identify the importance of what you put into it. This is a FREE COURSE. \nLocation: Acoma Police Department\,  74 Pinsbaari Dr\, Acoma Pueblo\, NM 87034 \nDate and Time: Tuesday\, March 18th\, 2025    8 am to 12 pm \nCrash Flyer Acoma Pueblo \n 
URL:https://swtcnm.com/event/crash-getting-it-right-morning-session-2/
CATEGORIES:Crash - Getting it Right
ATTACH;FMTTYPE=image/jpeg:https://swtcnm.com/wp-content/uploads/2021/06/dsc00706.jpg
END:VEVENT
BEGIN:VEVENT
DTSTART;TZID=UTC:20250318T130000
DTEND;TZID=UTC:20250318T170000
DTSTAMP:20260421T225552
CREATED:20250218T194351Z
LAST-MODIFIED:20250313T203214Z
UID:10000274-1742302800-1742317200@swtcnm.com
SUMMARY:Crash- Getting It Right (Afternoon Session)
DESCRIPTION:This is a four-hour NMLEA-accredited course that is also accredited as an instructor course. The Crash Report is a very significant document\, and many see it after it leaves your hands. We will go over the report and identify the importance of what you put into it. This is a FREE COURSE. \nLocation: Acoma Police Department\,  74 Pinsbaari Dr\, Acoma Pueblo\, NM 87034 \nDate and Time: Tuesday\, March 18th\, 2025    1 pm to 5 pm \nCrash Flyer Acoma Pueblo
URL:https://swtcnm.com/event/crash-getting-it-right-afternoon-session-2/
CATEGORIES:Crash - Getting it Right
ATTACH;FMTTYPE=image/jpeg:https://swtcnm.com/wp-content/uploads/2021/06/dsc00624-scaled.jpg
END:VEVENT
BEGIN:VEVENT
DTSTART;TZID=UTC:20250324T080000
DTEND;TZID=UTC:20250328T170000
DTSTAMP:20260421T225552
CREATED:20250123T035019Z
LAST-MODIFIED:20250321T155239Z
UID:10000268-1742803200-1743181200@swtcnm.com
SUMMARY:Instructor Development
DESCRIPTION:Instructor Development or Basic Instructor Class is the prerequisite for teaching law enforcement courses in the State Of New Mexico.  In order to attend this course\, you are required to have three years of law enforcement experience.  This is a great course with an excellent instructor and we look forward to having you in attendance. \nDates: March 24th through March 28th\, 2025 \nLocation: Tucumcari Convention Center 1500 W Route 66 Blvd\, Tucumcari\, NM 88401 \nInst. Dev. Flyer March 2025
URL:https://swtcnm.com/event/instructor-development/
CATEGORIES:Instructor Development
ATTACH;FMTTYPE=image/jpeg:https://swtcnm.com/wp-content/uploads/2021/09/images.jpeg
END:VEVENT
BEGIN:VEVENT
DTSTART;TZID=UTC:20250325T080000
DTEND;TZID=UTC:20250325T120000
DTSTAMP:20260421T225552
CREATED:20250130T234959Z
LAST-MODIFIED:20250324T181640Z
UID:10000269-1742889600-1742904000@swtcnm.com
SUMMARY:Crash - Getting it Right Morning Session (POSTPONED)
DESCRIPTION:This is a four-hour NMLEA-accredited course that is also accredited as an instructor course. The Crash Report is a very significant document\, and many see it after it leaves your hands. We will go over the report\, kind of like a refresher\, and identify the importance of what you put into it. \nLocation: New Mexico Junior College\, 1 Thunder Bird Circle Hobbs\, NM 88240 \nDate and Time: 3/25/2025 8am to 12pm \nCrash Class Flyer Hobbs \n 
URL:https://swtcnm.com/event/crash-getting-it-right-morning-session/
CATEGORIES:Crash - Getting it Right
ATTACH;FMTTYPE=image/jpeg:https://swtcnm.com/wp-content/uploads/2021/06/dsc00706.jpg
END:VEVENT
BEGIN:VEVENT
DTSTART;TZID=UTC:20250325T130000
DTEND;TZID=UTC:20250325T170000
DTSTAMP:20260421T225552
CREATED:20250130T235154Z
LAST-MODIFIED:20250130T235154Z
UID:10000270-1742907600-1742922000@swtcnm.com
SUMMARY:Crash - Getting it Right Afternoon Session
DESCRIPTION:This is a four-hour NMLEA-accredited course that is also accredited as an instructor course. The Crash Report is a very significant document\, and many see it after it leaves your hands. We will go over the report\, kind of like a refresher\, and identify the importance of what you put into it. \nLocation: New Mexico Junior College\, 1 Thunder Bird Circle Hobbs\, NM 88240 \nDate and Time: 3/25/2025 1pm to 5pm \nCrash Class Flyer Hobbs \n 
URL:https://swtcnm.com/event/crash-getting-it-right-afternoon-session/
CATEGORIES:Crash - Getting it Right
ATTACH;FMTTYPE=image/jpeg:https://swtcnm.com/wp-content/uploads/2021/06/dsc00706.jpg
END:VEVENT
BEGIN:VEVENT
DTSTART;TZID=UTC:20250331T080000
DTEND;TZID=UTC:20250331T170000
DTSTAMP:20260421T225552
CREATED:20250119T013006Z
LAST-MODIFIED:20250402T201711Z
UID:10000266-1743408000-1743440400@swtcnm.com
SUMMARY:General Police Instructor Refresher-Albuquerque
DESCRIPTION:General Police Instructor Refresher – This course is designed to refresh the general police instructor in the basics of teaching.  This is a great course\, and those in attendance will get a lot out of it. \nDate: Monday\, March 31st\, 2025\, 8:00 AM to 5:00 PM \nLocation: Sandia Pueblo Police Department \n10600 Apache Plume Dr\, Albuquerque\, NM 87113 \nCourse Cost:  $125.00 \nInst. Ref. Flyer March 2025
URL:https://swtcnm.com/event/general-police-instructor-refresher-3/
CATEGORIES:Instructor Refresher Course
ATTACH;FMTTYPE=image/jpeg:https://swtcnm.com/wp-content/uploads/2021/09/images.jpeg
END:VEVENT
BEGIN:VEVENT
DTSTART;TZID=UTC:20250331T080000
DTEND;TZID=UTC:20250401T170000
DTSTAMP:20260421T225552
CREATED:20250131T025952Z
LAST-MODIFIED:20250325T220845Z
UID:10000271-1743408000-1743526800@swtcnm.com
SUMMARY:Field Training Officer (Carlsbad)
DESCRIPTION:During this block of instruction\, we will go over the basics of identifying the generalities of an FTO program.  We will go over how the program is set up and the responsibilities of the field training officer. \nLocation: Carlsbad Police Department Carlsbad\, NM 602 W Mermod St\, Carlsbad\, NM 88220 \nDate and Time: March 31st- April 1st\, 2025   8am to 5pm \nFTO Flyer – Carlsbad
URL:https://swtcnm.com/event/field-training-officer-carlsbad/
CATEGORIES:Field Training Officer (FTO)
ATTACH;FMTTYPE=image/jpeg:https://swtcnm.com/wp-content/uploads/2025/01/Picture.jpg
END:VEVENT
END:VCALENDAR